BEGIN:VCALENDAR
VERSION:2.0
PRODID:-//PORTAL WEB SMA N JUMAPOLO
CALSCALE:GREGORIAN
METHOD:PUBLISH
X-WR-CALNAME:PORTAL WEB SMA N JUMAPOLO
X-ORIGINAL-URL:https://smanjumapolo-kra.sch.id/kegiatan/pelantikan-pengurus-osis-periode-2021-2022/
X-WR-CALDESC:Pelantikan Pengurus OSIS Periode 2021-2022
BEGIN:VEVENT
DTSTART:20210830T000000
DTEND:20210830T000000
SUMMARY:Pelantikan Pengurus OSIS Periode 2021-2022
DESCRIPTION:
LOCATION:
END:VEVENT
END:VCALENDAR
