BEGIN:VCALENDAR
VERSION:2.0
PRODID:-//PORTAL WEB SMA N JUMAPOLO
CALSCALE:GREGORIAN
METHOD:PUBLISH
X-WR-CALNAME:PORTAL WEB SMA N JUMAPOLO
X-ORIGINAL-URL:https://smanjumapolo-kra.sch.id/kegiatan/penilaian-akhir-semester-gasal-tp-2021-2022/
X-WR-CALDESC:Penilaian Akhir Semester Gasal TP. 2021/2022
BEGIN:VEVENT
DTSTART:20211129T000000
DTEND:20211130T000000
SUMMARY:Penilaian Akhir Semester Gasal TP. 2021/2022
DESCRIPTION:
LOCATION:
END:VEVENT
END:VCALENDAR
