BEGIN:VCALENDAR
VERSION:2.0
PRODID:-//PORTAL WEB SMA N JUMAPOLO
CALSCALE:GREGORIAN
METHOD:PUBLISH
X-WR-CALNAME:PORTAL WEB SMA N JUMAPOLO
X-ORIGINAL-URL:https://smanjumapolo-kra.sch.id/kegiatan/penilaian-akhir-semester-gasal-tp-2020-2021/
X-WR-CALDESC:Penilaian Akhir Semester Gasal TP. 2020/2021
BEGIN:VEVENT
DTSTART:20211201T000000
DTEND:20211210T000000
SUMMARY:Penilaian Akhir Semester Gasal TP. 2020/2021
DESCRIPTION:
LOCATION:
END:VEVENT
END:VCALENDAR
