BEGIN:VCALENDAR
VERSION:2.0
PRODID:-//PORTAL WEB SMA N JUMAPOLO
CALSCALE:GREGORIAN
METHOD:PUBLISH
X-WR-CALNAME:PORTAL WEB SMA N JUMAPOLO
X-ORIGINAL-URL:https://smanjumapolo-kra.sch.id/kegiatan/cuti-bersama-hari-natal/
X-WR-CALDESC:Cuti Bersama Hari Natal
BEGIN:VEVENT
DTSTART:20211224T000000
DTEND:20211224T000000
SUMMARY:Cuti Bersama Hari Natal
DESCRIPTION:
LOCATION:
END:VEVENT
END:VCALENDAR
