BEGIN:VCALENDAR
VERSION:2.0
PRODID:-//PORTAL WEB SMA N JUMAPOLO
CALSCALE:GREGORIAN
METHOD:PUBLISH
X-WR-CALNAME:PORTAL WEB SMA N JUMAPOLO
X-ORIGINAL-URL:https://smanjumapolo-kra.sch.id/kegiatan/libur-umum-hari-natal/
X-WR-CALDESC:Libur Umum Hari Natal
BEGIN:VEVENT
DTSTART:20211225T000000
DTEND:20211225T000000
SUMMARY:Libur Umum Hari Natal
DESCRIPTION:
LOCATION:
END:VEVENT
END:VCALENDAR
