BEGIN:VCALENDAR
VERSION:2.0
PRODID:-//PORTAL WEB SMA N JUMAPOLO
CALSCALE:GREGORIAN
METHOD:PUBLISH
X-WR-CALNAME:PORTAL WEB SMA N JUMAPOLO
X-ORIGINAL-URL:https://smanjumapolo-kra.sch.id/kegiatan/libur-awal-bulan-ramadhan-1443-h/
X-WR-CALDESC:Libur Awal Bulan Ramadhan 1443 H
BEGIN:VEVENT
DTSTART:20220404T000000
DTEND:20220405T000000
SUMMARY:Libur Awal Bulan Ramadhan 1443 H
DESCRIPTION:
LOCATION:
END:VEVENT
END:VCALENDAR
