BEGIN:VCALENDAR
VERSION:2.0
PRODID:-//PORTAL WEB SMA N JUMAPOLO
CALSCALE:GREGORIAN
METHOD:PUBLISH
X-WR-CALNAME:PORTAL WEB SMA N JUMAPOLO
X-ORIGINAL-URL:https://smanjumapolo-kra.sch.id/kegiatan/libur-cuti-bersama-hari-raya-idul-fitri-1443-h/
X-WR-CALDESC:Libur &#038; Cuti Bersama Hari Raya Idul Fitri 1443 H
BEGIN:VEVENT
DTSTART:20220502T000000
DTEND:20220504T000000
SUMMARY:Libur &#038; Cuti Bersama Hari Raya Idul Fitri 1443 H
DESCRIPTION:
LOCATION:
END:VEVENT
END:VCALENDAR
