BEGIN:VCALENDAR
VERSION:2.0
PRODID:-//PORTAL WEB SMA N JUMAPOLO
CALSCALE:GREGORIAN
METHOD:PUBLISH
X-WR-CALNAME:PORTAL WEB SMA N JUMAPOLO
X-ORIGINAL-URL:https://smanjumapolo-kra.sch.id/kegiatan/libur-umum-hari-raya-waisak/
X-WR-CALDESC:Libur Umum Hari Raya Waisak
BEGIN:VEVENT
DTSTART:20220516T000000
DTEND:20220516T000000
SUMMARY:Libur Umum Hari Raya Waisak
DESCRIPTION:
LOCATION:
END:VEVENT
END:VCALENDAR
