BEGIN:VCALENDAR
VERSION:2.0
PRODID:-//PORTAL WEB SMA N JUMAPOLO
CALSCALE:GREGORIAN
METHOD:PUBLISH
X-WR-CALNAME:PORTAL WEB SMA N JUMAPOLO
X-ORIGINAL-URL:https://smanjumapolo-kra.sch.id/kegiatan/upacara-peringatan-hari-lahir-pancasila/
X-WR-CALDESC:Upacara Peringatan Hari Lahir Pancasila
BEGIN:VEVENT
DTSTART:20220601T000000
DTEND:20220601T000000
SUMMARY:Upacara Peringatan Hari Lahir Pancasila
DESCRIPTION:
LOCATION:
END:VEVENT
END:VCALENDAR
