BEGIN:VCALENDAR
VERSION:2.0
PRODID:-//PORTAL WEB SMA N JUMAPOLO
CALSCALE:GREGORIAN
METHOD:PUBLISH
X-WR-CALNAME:PORTAL WEB SMA N JUMAPOLO
X-ORIGINAL-URL:https://smanjumapolo-kra.sch.id/kegiatan/penyerahan-buku-lhb-semester-genap-tp-21-22/
X-WR-CALDESC:Penyerahan Buku LHB Semester Genap TP.21/22
BEGIN:VEVENT
DTSTART:20220617T000000
DTEND:20220617T000000
SUMMARY:Penyerahan Buku LHB Semester Genap TP.21/22
DESCRIPTION:
LOCATION:
END:VEVENT
END:VCALENDAR
