BEGIN:VCALENDAR
VERSION:2.0
PRODID:-//PORTAL WEB SMA N JUMAPOLO
CALSCALE:GREGORIAN
METHOD:PUBLISH
X-WR-CALNAME:PORTAL WEB SMA N JUMAPOLO
X-ORIGINAL-URL:https://smanjumapolo-kra.sch.id/kegiatan/libur-hari-raya-idul-adha-1443-h/
X-WR-CALDESC:Libur Hari Raya Idul Adha 1443 H
BEGIN:VEVENT
DTSTART:20220709T000000
DTEND:20220709T000000
SUMMARY:Libur Hari Raya Idul Adha 1443 H
DESCRIPTION:
LOCATION:
END:VEVENT
END:VCALENDAR
