BEGIN:VCALENDAR
VERSION:2.0
PRODID:-//PORTAL WEB SMA N JUMAPOLO
CALSCALE:GREGORIAN
METHOD:PUBLISH
X-WR-CALNAME:PORTAL WEB SMA N JUMAPOLO
X-ORIGINAL-URL:https://smanjumapolo-kra.sch.id/kegiatan/permulaan-tahun-pelajaran-2022-2023/
X-WR-CALDESC:Permulaan Tahun Pelajaran 2022/2023
BEGIN:VEVENT
DTSTART:20220711T000000
DTEND:20220711T000000
SUMMARY:Permulaan Tahun Pelajaran 2022/2023
DESCRIPTION:
LOCATION:
END:VEVENT
END:VCALENDAR
