BEGIN:VCALENDAR
VERSION:2.0
PRODID:-//PORTAL WEB SMA N JUMAPOLO
CALSCALE:GREGORIAN
METHOD:PUBLISH
X-WR-CALNAME:PORTAL WEB SMA N JUMAPOLO
X-ORIGINAL-URL:https://smanjumapolo-kra.sch.id/kegiatan/masa-pengenalan-lingkungan-sekolah/
X-WR-CALDESC:Masa Pengenalan Lingkungan Sekolah
BEGIN:VEVENT
DTSTART:20220711T000000
DTEND:20220713T000000
SUMMARY:Masa Pengenalan Lingkungan Sekolah
DESCRIPTION:
LOCATION:
END:VEVENT
END:VCALENDAR
