BEGIN:VCALENDAR
VERSION:2.0
PRODID:-//PORTAL WEB SMA N JUMAPOLO
CALSCALE:GREGORIAN
METHOD:PUBLISH
X-WR-CALNAME:PORTAL WEB SMA N JUMAPOLO
X-ORIGINAL-URL:https://smanjumapolo-kra.sch.id/kegiatan/hari-pertama-masuk-sekolah-tahun-pelajaran-2023-2024/
X-WR-CALDESC:Hari Pertama Masuk Sekolah Tahun Pelajaran 2023/2024
BEGIN:VEVENT
DTSTART:20230717T000000
DTEND:20230717T000000
SUMMARY:Hari Pertama Masuk Sekolah Tahun Pelajaran 2023/2024
DESCRIPTION:
LOCATION:
END:VEVENT
END:VCALENDAR
