BEGIN:VCALENDAR
VERSION:2.0
PRODID:-//PORTAL WEB SMA N JUMAPOLO
CALSCALE:GREGORIAN
METHOD:PUBLISH
X-WR-CALNAME:PORTAL WEB SMA N JUMAPOLO
X-ORIGINAL-URL:https://smanjumapolo-kra.sch.id/kegiatan/perkiraan-kemah-blok-kelas-xi/
X-WR-CALDESC:Perkiraan Kemah Blok Kelas XI
BEGIN:VEVENT
DTSTART:20230804T000000
DTEND:20230805T000000
SUMMARY:Perkiraan Kemah Blok Kelas XI
DESCRIPTION:
LOCATION:
END:VEVENT
END:VCALENDAR
