BEGIN:VCALENDAR
VERSION:2.0
PRODID:-//PORTAL WEB SMA N JUMAPOLO
CALSCALE:GREGORIAN
METHOD:PUBLISH
X-WR-CALNAME:PORTAL WEB SMA N JUMAPOLO
X-ORIGINAL-URL:https://smanjumapolo-kra.sch.id/kegiatan/libur-peringatan-maulud-nabi-muhammad-saw-1445-h/
X-WR-CALDESC:Libur Peringatan Maulud Nabi Muhammad SAW 1445 H
BEGIN:VEVENT
DTSTART:20230928T000000
DTEND:20230928T000000
SUMMARY:Libur Peringatan Maulud Nabi Muhammad SAW 1445 H
DESCRIPTION:
LOCATION:
END:VEVENT
END:VCALENDAR
