BEGIN:VCALENDAR
VERSION:2.0
PRODID:-//PORTAL WEB SMA N JUMAPOLO
CALSCALE:GREGORIAN
METHOD:PUBLISH
X-WR-CALNAME:PORTAL WEB SMA N JUMAPOLO
X-ORIGINAL-URL:https://smanjumapolo-kra.sch.id/kegiatan/penilaian-sumatif-akhir-semester-gasal-tp-2023-2024/
X-WR-CALDESC:Penilaian/Sumatif Akhir Semester Gasal TP.2023/2024
BEGIN:VEVENT
DTSTART:20231127T000000
DTEND:20231130T000000
SUMMARY:Penilaian/Sumatif Akhir Semester Gasal TP.2023/2024
DESCRIPTION:
LOCATION:
END:VEVENT
END:VCALENDAR
