BEGIN:VCALENDAR
VERSION:2.0
PRODID:-//PORTAL WEB SMA N JUMAPOLO
CALSCALE:GREGORIAN
METHOD:PUBLISH
X-WR-CALNAME:PORTAL WEB SMA N JUMAPOLO
X-ORIGINAL-URL:https://smanjumapolo-kra.sch.id/kegiatan/tes-susulan-persiapan-lhb-semester-gasal/
X-WR-CALDESC:Tes Susulan &#038; Persiapan LHB Semester Gasal
BEGIN:VEVENT
DTSTART:20231207T000000
DTEND:20231214T000000
SUMMARY:Tes Susulan &#038; Persiapan LHB Semester Gasal
DESCRIPTION:
LOCATION:
END:VEVENT
END:VCALENDAR
