BEGIN:VCALENDAR
VERSION:2.0
PRODID:-//PORTAL WEB SMA N JUMAPOLO
CALSCALE:GREGORIAN
METHOD:PUBLISH
X-WR-CALNAME:PORTAL WEB SMA N JUMAPOLO
X-ORIGINAL-URL:https://smanjumapolo-kra.sch.id/kegiatan/libur-tahun-baru-hijriyah-1-muharam-1446-h/
X-WR-CALDESC:Libur Tahun Baru Hijriyah/1 Muharam 1446 H
BEGIN:VEVENT
DTSTART:20240707T000000
DTEND:20240707T000000
SUMMARY:Libur Tahun Baru Hijriyah/1 Muharam 1446 H
DESCRIPTION:
LOCATION:
END:VEVENT
END:VCALENDAR
