BEGIN:VCALENDAR
VERSION:2.0
PRODID:-//PORTAL WEB SMA N JUMAPOLO
CALSCALE:GREGORIAN
METHOD:PUBLISH
X-WR-CALNAME:PORTAL WEB SMA N JUMAPOLO
X-ORIGINAL-URL:https://smanjumapolo-kra.sch.id/kegiatan/hari-pertama-masuk-sekolah/
X-WR-CALDESC:Hari Pertama Masuk Sekolah
BEGIN:VEVENT
DTSTART:20240722T000000
DTEND:20240722T000000
SUMMARY:Hari Pertama Masuk Sekolah
DESCRIPTION:
LOCATION:
END:VEVENT
END:VCALENDAR
