BEGIN:VCALENDAR
VERSION:2.0
PRODID:-//PORTAL WEB SMA N JUMAPOLO
CALSCALE:GREGORIAN
METHOD:PUBLISH
X-WR-CALNAME:PORTAL WEB SMA N JUMAPOLO
X-ORIGINAL-URL:https://smanjumapolo-kra.sch.id/kegiatan/gladi-bersih-asesmen-nasional/
X-WR-CALDESC:Gladi bersih Asesmen Nasional
BEGIN:VEVENT
DTSTART:20240812T000000
DTEND:20240815T000000
SUMMARY:Gladi bersih Asesmen Nasional
DESCRIPTION:
LOCATION:
END:VEVENT
END:VCALENDAR
