BEGIN:VCALENDAR
VERSION:2.0
PRODID:-//PORTAL WEB SMA N JUMAPOLO
CALSCALE:GREGORIAN
METHOD:PUBLISH
X-WR-CALNAME:PORTAL WEB SMA N JUMAPOLO
X-ORIGINAL-URL:https://smanjumapolo-kra.sch.id/kegiatan/asesmen-sumatif-tengah-semester-gasal/
X-WR-CALDESC:Asesmen Sumatif  Tengah Semester Gasal
BEGIN:VEVENT
DTSTART:20240909T000000
DTEND:20240913T000000
SUMMARY:Asesmen Sumatif  Tengah Semester Gasal
DESCRIPTION:
LOCATION:
END:VEVENT
END:VCALENDAR
