BEGIN:VCALENDAR
VERSION:2.0
PRODID:-//PORTAL WEB SMA N JUMAPOLO
CALSCALE:GREGORIAN
METHOD:PUBLISH
X-WR-CALNAME:PORTAL WEB SMA N JUMAPOLO
X-ORIGINAL-URL:https://smanjumapolo-kra.sch.id/kegiatan/libur-menjelang-idul-fitri-1446-h/
X-WR-CALDESC:Libur menjelang Idul Fitri 1446 H
BEGIN:VEVENT
DTSTART:20250328T000000
DTEND:20250328T000000
SUMMARY:Libur menjelang Idul Fitri 1446 H
DESCRIPTION:
LOCATION:
END:VEVENT
END:VCALENDAR
