BEGIN:VCALENDAR
VERSION:2.0
PRODID:-//PORTAL WEB SMA N JUMAPOLO
CALSCALE:GREGORIAN
METHOD:PUBLISH
X-WR-CALNAME:PORTAL WEB SMA N JUMAPOLO
X-ORIGINAL-URL:https://smanjumapolo-kra.sch.id/kegiatan/perkiraan-penilaian-sumatif-akhir-jenjang/
X-WR-CALDESC:Perkiraan Penilaian Sumatif Akhir Jenjang
BEGIN:VEVENT
DTSTART:20250317T000000
DTEND:20250326T000000
SUMMARY:Perkiraan Penilaian Sumatif Akhir Jenjang
DESCRIPTION:
LOCATION:
END:VEVENT
END:VCALENDAR
