BEGIN:VCALENDAR
VERSION:2.0
PRODID:-//PORTAL WEB SMA N JUMAPOLO
CALSCALE:GREGORIAN
METHOD:PUBLISH
X-WR-CALNAME:PORTAL WEB SMA N JUMAPOLO
X-ORIGINAL-URL:https://smanjumapolo-kra.sch.id/kegiatan/susulan-asesmen-sumatif-akhir-tahun/
X-WR-CALDESC:Susulan Asesmen Sumatif Akhir Tahun
BEGIN:VEVENT
DTSTART:20250612T000000
DTEND:20250613T000000
SUMMARY:Susulan Asesmen Sumatif Akhir Tahun
DESCRIPTION:
LOCATION:
END:VEVENT
END:VCALENDAR
