BEGIN:VCALENDAR
VERSION:2.0
PRODID:-//PORTAL WEB SMA N JUMAPOLO
CALSCALE:GREGORIAN
METHOD:PUBLISH
X-WR-CALNAME:PORTAL WEB SMA N JUMAPOLO
X-ORIGINAL-URL:https://smanjumapolo-kra.sch.id/kegiatan/sinkronisasi-pelaksanaan-asesmen-nasional-2/
X-WR-CALDESC:Sinkronisasi pelaksanaan Asesmen Nasional
BEGIN:VEVENT
DTSTART:20250801T000000
DTEND:20250803T000000
SUMMARY:Sinkronisasi pelaksanaan Asesmen Nasional
DESCRIPTION:
LOCATION:
END:VEVENT
END:VCALENDAR
