BEGIN:VCALENDAR
VERSION:2.0
PRODID:-//PORTAL WEB SMA N JUMAPOLO
CALSCALE:GREGORIAN
METHOD:PUBLISH
X-WR-CALNAME:PORTAL WEB SMA N JUMAPOLO
X-ORIGINAL-URL:https://smanjumapolo-kra.sch.id/kegiatan/upacara-hut-kemerdekaan-ri-ke-80/
X-WR-CALDESC:Upacara HUT Kemerdekaan RI Ke 80
BEGIN:VEVENT
DTSTART:20250817T000000
DTEND:20250817T000000
SUMMARY:Upacara HUT Kemerdekaan RI Ke 80
DESCRIPTION:
LOCATION:
END:VEVENT
END:VCALENDAR
