BEGIN:VCALENDAR
VERSION:2.0
PRODID:-//PORTAL WEB SMA N JUMAPOLO
CALSCALE:GREGORIAN
METHOD:PUBLISH
X-WR-CALNAME:PORTAL WEB SMA N JUMAPOLO
X-ORIGINAL-URL:https://smanjumapolo-kra.sch.id/kegiatan/mengikuti-upacara-hari-sumpah-pemuda-4/
X-WR-CALDESC:Mengikuti Upacara Hari Sumpah Pemuda
BEGIN:VEVENT
DTSTART:20251028T000000
DTEND:20251028T000000
SUMMARY:Mengikuti Upacara Hari Sumpah Pemuda
DESCRIPTION:
LOCATION:
END:VEVENT
END:VCALENDAR
