BEGIN:VCALENDAR
VERSION:2.0
PRODID:-//PORTAL WEB SMA N JUMAPOLO
CALSCALE:GREGORIAN
METHOD:PUBLISH
X-WR-CALNAME:PORTAL WEB SMA N JUMAPOLO
X-ORIGINAL-URL:https://smanjumapolo-kra.sch.id/kegiatan/tes-kemampuan-akademik-tka/
X-WR-CALDESC:Tes Kemampuan Akademik (TKA)
BEGIN:VEVENT
DTSTART:20251117T000000
DTEND:20251119T000000
SUMMARY:Tes Kemampuan Akademik (TKA)
DESCRIPTION:
LOCATION:
END:VEVENT
END:VCALENDAR
