BEGIN:VCALENDAR
VERSION:2.0
PRODID:-//PORTAL WEB SMA N JUMAPOLO
CALSCALE:GREGORIAN
METHOD:PUBLISH
X-WR-CALNAME:PORTAL WEB SMA N JUMAPOLO
X-ORIGINAL-URL:https://smanjumapolo-kra.sch.id/kegiatan/asesmen-sumatif-akhir-semester-gasal-ta-2025-2026/
X-WR-CALDESC:Asesmen Sumatif Akhir Semester Gasal TA.2025/2026
BEGIN:VEVENT
DTSTART:20251124T000000
DTEND:20251129T000000
SUMMARY:Asesmen Sumatif Akhir Semester Gasal TA.2025/2026
DESCRIPTION:
LOCATION:
END:VEVENT
END:VCALENDAR
