BEGIN:VCALENDAR
VERSION:2.0
PRODID:-//PORTAL WEB SMA N JUMAPOLO
CALSCALE:GREGORIAN
METHOD:PUBLISH
X-WR-CALNAME:PORTAL WEB SMA N JUMAPOLO
X-ORIGINAL-URL:https://smanjumapolo-kra.sch.id/kegiatan/penyerahan-buku-lhb-semester-gasal-4/
X-WR-CALDESC:Penyerahan Buku LHB Semester Gasal
BEGIN:VEVENT
DTSTART:20251219T000000
DTEND:20251219T000000
SUMMARY:Penyerahan Buku LHB Semester Gasal
DESCRIPTION:
LOCATION:
END:VEVENT
END:VCALENDAR
