BEGIN:VCALENDAR
VERSION:2.0
PRODID:-//PORTAL WEB SMA N JUMAPOLO
CALSCALE:GREGORIAN
METHOD:PUBLISH
X-WR-CALNAME:PORTAL WEB SMA N JUMAPOLO
X-ORIGINAL-URL:https://smanjumapolo-kra.sch.id/kegiatan/hari-pertama-semester-genap-ta-2025-2026/
X-WR-CALDESC:Hari pertama Semester Genap TA. 2025/2026
BEGIN:VEVENT
DTSTART:20260105T000000
DTEND:20260105T000000
SUMMARY:Hari pertama Semester Genap TA. 2025/2026
DESCRIPTION:
LOCATION:
END:VEVENT
END:VCALENDAR
