BEGIN:VCALENDAR
VERSION:2.0
PRODID:-//PORTAL WEB SMA N JUMAPOLO
CALSCALE:GREGORIAN
METHOD:PUBLISH
X-WR-CALNAME:PORTAL WEB SMA N JUMAPOLO
X-ORIGINAL-URL:https://smanjumapolo-kra.sch.id/kegiatan/libur-umum-tahun-baru-imlek-2577/
X-WR-CALDESC:Libur Umum Tahun Baru Imlek 2577
BEGIN:VEVENT
DTSTART:20260217T000000
DTEND:20260217T233000
SUMMARY:Libur Umum Tahun Baru Imlek 2577
DESCRIPTION:
LOCATION:
END:VEVENT
END:VCALENDAR
