BEGIN:VCALENDAR
VERSION:2.0
PRODID:-//PORTAL WEB SMA N JUMAPOLO
CALSCALE:GREGORIAN
METHOD:PUBLISH
X-WR-CALNAME:PORTAL WEB SMA N JUMAPOLO
X-ORIGINAL-URL:https://smanjumapolo-kra.sch.id/kegiatan/asesmen-sumatif-tengah-semester-genap-tahun-ajaran-2025-2026/
X-WR-CALDESC:Asesmen sumatif  Tengah Semester Genap Tahun Ajaran 2025/2026
BEGIN:VEVENT
DTSTART:20260309T000000
DTEND:20260313T000000
SUMMARY:Asesmen sumatif  Tengah Semester Genap Tahun Ajaran 2025/2026
DESCRIPTION:
LOCATION:
END:VEVENT
END:VCALENDAR
