BEGIN:VCALENDAR
VERSION:2.0
PRODID:-//PORTAL WEB SMA N JUMAPOLO
CALSCALE:GREGORIAN
METHOD:PUBLISH
X-WR-CALNAME:PORTAL WEB SMA N JUMAPOLO
X-ORIGINAL-URL:https://smanjumapolo-kra.sch.id/kegiatan/libur-umum-sebelum-hari-raya-idul-fitri-1447-h/
X-WR-CALDESC:Libur umum sebelum Hari Raya Idul Fitri 1447 H
BEGIN:VEVENT
DTSTART:20260316T000000
DTEND:20260318T000000
SUMMARY:Libur umum sebelum Hari Raya Idul Fitri 1447 H
DESCRIPTION:
LOCATION:
END:VEVENT
END:VCALENDAR
