BEGIN:VCALENDAR
VERSION:2.0
PRODID:-//PORTAL WEB SMA N JUMAPOLO
CALSCALE:GREGORIAN
METHOD:PUBLISH
X-WR-CALNAME:PORTAL WEB SMA N JUMAPOLO
X-ORIGINAL-URL:https://smanjumapolo-kra.sch.id/kegiatan/libur-umum-hari-raya-nyepi-1948-saka/
X-WR-CALDESC:Libur Umum Hari Raya Nyepi 1948 Saka
BEGIN:VEVENT
DTSTART:20260319T000000
DTEND:20260319T000000
SUMMARY:Libur Umum Hari Raya Nyepi 1948 Saka
DESCRIPTION:
LOCATION:
END:VEVENT
END:VCALENDAR
