BEGIN:VCALENDAR
VERSION:2.0
PRODID:-//PORTAL WEB SMA N JUMAPOLO
CALSCALE:GREGORIAN
METHOD:PUBLISH
X-WR-CALNAME:PORTAL WEB SMA N JUMAPOLO
X-ORIGINAL-URL:https://smanjumapolo-kra.sch.id/kegiatan/libur-umum-wafat-isa-al-masih-jumat-agung-3/
X-WR-CALDESC:Libur Umum Wafat Isa Al-Masih (Jum&#8217;at Agung)
BEGIN:VEVENT
DTSTART:20260403T000000
DTEND:20260403T000000
SUMMARY:Libur Umum Wafat Isa Al-Masih (Jum&#8217;at Agung)
DESCRIPTION:
LOCATION:
END:VEVENT
END:VCALENDAR
