BEGIN:VCALENDAR
VERSION:2.0
PRODID:-//PORTAL WEB SMA N JUMAPOLO
CALSCALE:GREGORIAN
METHOD:PUBLISH
X-WR-CALNAME:PORTAL WEB SMA N JUMAPOLO
X-ORIGINAL-URL:https://smanjumapolo-kra.sch.id/kegiatan/perkiraan-seleksi-osn-k-2/
X-WR-CALDESC:Perkiraan Seleksi OSN-K
BEGIN:VEVENT
DTSTART:20260413T000000
DTEND:20260415T000000
SUMMARY:Perkiraan Seleksi OSN-K
DESCRIPTION:
LOCATION:
END:VEVENT
END:VCALENDAR
