BEGIN:VCALENDAR
VERSION:2.0
PRODID:-//PORTAL WEB SMA N JUMAPOLO
CALSCALE:GREGORIAN
METHOD:PUBLISH
X-WR-CALNAME:PORTAL WEB SMA N JUMAPOLO
X-ORIGINAL-URL:https://smanjumapolo-kra.sch.id/kegiatan/peringatan-hari-kartini-2/
X-WR-CALDESC:Peringatan Hari Kartini
BEGIN:VEVENT
DTSTART:20260421T000000
DTEND:20260421T000000
SUMMARY:Peringatan Hari Kartini
DESCRIPTION:
LOCATION:
END:VEVENT
END:VCALENDAR
